BEGIN:VCALENDAR
VERSION:2.0
PRODID:-//Kush Groove Cannabis Dispensary - ECPv6.15.17.1//NONSGML v1.0//EN
CALSCALE:GREGORIAN
METHOD:PUBLISH
X-WR-CALNAME:Kush Groove Cannabis Dispensary
X-ORIGINAL-URL:https://kushgroove.com
X-WR-CALDESC:Events for Kush Groove Cannabis Dispensary
REFRESH-INTERVAL;VALUE=DURATION:PT1H
X-Robots-Tag:noindex
X-PUBLISHED-TTL:PT1H
BEGIN:VTIMEZONE
TZID:America/New_York
BEGIN:DAYLIGHT
TZOFFSETFROM:-0500
TZOFFSETTO:-0400
TZNAME:EDT
DTSTART:20240310T070000
END:DAYLIGHT
BEGIN:STANDARD
TZOFFSETFROM:-0400
TZOFFSETTO:-0500
TZNAME:EST
DTSTART:20241103T060000
END:STANDARD
BEGIN:DAYLIGHT
TZOFFSETFROM:-0500
TZOFFSETTO:-0400
TZNAME:EDT
DTSTART:20250309T070000
END:DAYLIGHT
BEGIN:STANDARD
TZOFFSETFROM:-0400
TZOFFSETTO:-0500
TZNAME:EST
DTSTART:20251102T060000
END:STANDARD
BEGIN:DAYLIGHT
TZOFFSETFROM:-0500
TZOFFSETTO:-0400
TZNAME:EDT
DTSTART:20260308T070000
END:DAYLIGHT
BEGIN:STANDARD
TZOFFSETFROM:-0400
TZOFFSETTO:-0500
TZNAME:EST
DTSTART:20261101T060000
END:STANDARD
END:VTIMEZONE
BEGIN:VEVENT
DTSTART;TZID=America/New_York:20251030T080000
DTEND;TZID=America/New_York:20251030T170000
DTSTAMP:20260419T092506
CREATED:20251030T162657Z
LAST-MODIFIED:20251030T165703Z
UID:93230-1761811200-1761843600@kushgroove.com
SUMMARY:Halloween Weed Cannabis Events Brockton Dispensary
DESCRIPTION:Step into the spirit of the season with a night of mysticism\, cannabis\, and community at Kush Groove Dispensary in Brockton. This Halloween\, we’re hosting a special Tarot Reading experience with Nahdra Alleyne\, blending spiritual insight with the chill vibes of the cannabis culture we love. \n🗓 Thursday\, October 31\, 2025🕓 4:00 PM – 8:00 PM📍 Kush Groove Dispensary – 912 Crescent St. (Next to Mikos)\, Brockton\, MA 02302 \n✨ What to Expect\nExperience a one-of-a-kind evening where spirituality meets cannabis culture. Each tarot session with Nahdra offers a personal reading designed to bring balance\, clarity\, and cosmic perspective. Whether you’re looking to reflect\, release\, or manifest — this event invites you to connect in a peaceful\, elevated setting. \nEnjoy a relaxed atmosphere surrounded by like-minded people\, explore our wide selection of premium cannabis products\, and celebrate Halloween the Kush Groove way — with intention\, creativity\, and good energy. \n🌿 Why You’ll Love It\nThis isn’t your average Halloween party — it’s an experience made for those who appreciate weed\, wellness\, and connection. Come unwind\, learn something about yourself\, and take part in one of the most unique Halloween cannabis events in Massachusetts. Whether you’re a long-time Kush Groove supporter or new to our community\, this event is a perfect way to enjoy Halloween in a calm\, soulful way. \n📍 Dispensary Hours\nBrockton:912 Crescent St. (Next to Mikos)\, Brockton\, MA 02302🕘 9AM – 9PM \nCambridge:701 Mt. Auburn St.\, Cambridge\, MA 02138🕙 10AM – 9PM
URL:https://kushgroove.com/event/halloween-weed-cannabis-events/
LOCATION:Kush Groove Dispensary – Brockton\, 912 Crescent St\, Brockton\, MA\, 02302\, United States
ATTACH;FMTTYPE=image/png:https://kushgroove.com/wp-content/uploads/2025/10/Black-and-White-Elegant-Tarot-Reading-Instagram-Story.png
END:VEVENT
BEGIN:VEVENT
DTSTART;TZID=America/New_York:20251030T080000
DTEND;TZID=America/New_York:20251030T170000
DTSTAMP:20260419T092506
CREATED:20251030T163545Z
LAST-MODIFIED:20251030T165727Z
UID:93234-1761811200-1761843600@kushgroove.com
SUMMARY:Halloween Cannabis Weed Events Cambridge Dispensary
DESCRIPTION:This Halloween\, Kush Groove Dispensary is turning up the good vibes and giving back to our community. Join us for our annual Halloween Customer Appreciation Day — a celebration of music\, spirit\, and Massachusetts cannabis culture. \n🗓 Friday\, October 31\, 2025📍 Kush Groove Dispensary – Cambridge & Brockton🎧 Free Gift Bags | DJ Sets | Tarot Readings | 20+ Cannabis Deals \n🕸️ Event Details\nCelebrate Halloween with your favorite dispensary! Both Kush Groove locations will feature vibes throughout the day\, exclusive giveaways\, and over 20 cannabis deals per store. Expect good music\, good people\, and even better weed. \nOur Brockton location will also host Halloween Tarot Readings with Nahdra Alleyne — a spiritual twist to your spooky season. Get your cards read\, pick up some premium flower or edibles\, and tap into the festive energy only Kush Groove can deliver. \n🎁 What to Expect\n\n\nFree Halloween gift bags (while supplies last) \n\n\nLive DJs keeping the energy high at Cambridge location \n\n\nExclusive cannabis deals on flower\, edibles\, vapes & more \n\n\nTarot reading sessions at Brockton \n\n\nCommunity vibes and surprises all day \n\n\nThis is your invitation to one of the most exciting Halloween weed cannabis events in Massachusetts — a day filled with fun\, flavor\, and appreciation for our loyal customers. \n🌿 Store Locations & Hours\nBrockton:912 Crescent St. (Next to Mikos)Brockton\, MA 02302🕘 9AM – 9PM \nCambridge:701 Mt. Auburn St.Cambridge\, MA 02138🕙 10AM – 9PM
URL:https://kushgroove.com/event/halloween-cannabis-weed-events/
LOCATION:Kush Groove Dispensary – Cambridge\, 701 Mount Auburn St\, Cambridge\, MA\, 02138\, United States
ATTACH;FMTTYPE=image/png:https://kushgroove.com/wp-content/uploads/2025/10/Purple-and-Orange-Illustrative-Halloween-Sale-Flyer.png
END:VEVENT
END:VCALENDAR