BEGIN:VCALENDAR
VERSION:2.0
PRODID:-//Kush Groove Cannabis Dispensary - ECPv6.15.17.1//NONSGML v1.0//EN
CALSCALE:GREGORIAN
METHOD:PUBLISH
X-ORIGINAL-URL:https://kushgroove.com
X-WR-CALDESC:Events for Kush Groove Cannabis Dispensary
REFRESH-INTERVAL;VALUE=DURATION:PT1H
X-Robots-Tag:noindex
X-PUBLISHED-TTL:PT1H
BEGIN:VTIMEZONE
TZID:America/New_York
BEGIN:DAYLIGHT
TZOFFSETFROM:-0500
TZOFFSETTO:-0400
TZNAME:EDT
DTSTART:20240310T070000
END:DAYLIGHT
BEGIN:STANDARD
TZOFFSETFROM:-0400
TZOFFSETTO:-0500
TZNAME:EST
DTSTART:20241103T060000
END:STANDARD
BEGIN:DAYLIGHT
TZOFFSETFROM:-0500
TZOFFSETTO:-0400
TZNAME:EDT
DTSTART:20250309T070000
END:DAYLIGHT
BEGIN:STANDARD
TZOFFSETFROM:-0400
TZOFFSETTO:-0500
TZNAME:EST
DTSTART:20251102T060000
END:STANDARD
BEGIN:DAYLIGHT
TZOFFSETFROM:-0500
TZOFFSETTO:-0400
TZNAME:EDT
DTSTART:20260308T070000
END:DAYLIGHT
BEGIN:STANDARD
TZOFFSETFROM:-0400
TZOFFSETTO:-0500
TZNAME:EST
DTSTART:20261101T060000
END:STANDARD
END:VTIMEZONE
BEGIN:VEVENT
DTSTART;TZID=America/New_York:20250201T160000
DTEND;TZID=America/New_York:20250201T200000
DTSTAMP:20260421T182152
CREATED:20250128T213148Z
LAST-MODIFIED:20250128T213349Z
UID:57336-1738425600-1738440000@kushgroove.com
SUMMARY:I Deserve to Bloom! Art & Floral Pop-Up
DESCRIPTION:Join us Saturday\, Feb. 1st from 4pm-8pm at Kush Groove Dispensary in Cambridge\, MA for a celebration of self-love\, growth & embracing your fullest potential. This special pop-up will feature original artwork by Ambrojah and hand-crafted floral bouquets by Floria; all available for purchase!  \nStep into a space where art\, flowers and personal care come together to honor your journey. Explore stunning prints\, beautiful floral arragements and refreshing mocktails\, all while celebrating the power of nurturing yourself and letting your unique beauty flourish. \nWhether you’re treating yourself or searching for the perfect give\, this event is about honoring the beauty within you. \nInvite friends along! No entry fee. Join us for an evening of self celebration and blossoming vibes. We can’t wait to see you.
URL:https://kushgroove.com/event/kush-groove-art-pop-up/
LOCATION:MA
ATTACH;FMTTYPE=image/jpeg:https://kushgroove.com/wp-content/uploads/2025/01/Untitled-January-17-2025-10.55.36-01-Artboard-1-min-scaled.jpg
END:VEVENT
END:VCALENDAR