BEGIN:VCALENDAR
VERSION:2.0
PRODID:-//Kush Groove Cannabis Dispensary - ECPv6.15.17.1//NONSGML v1.0//EN
CALSCALE:GREGORIAN
METHOD:PUBLISH
X-ORIGINAL-URL:https://kushgroove.com
X-WR-CALDESC:Events for Kush Groove Cannabis Dispensary
REFRESH-INTERVAL;VALUE=DURATION:PT1H
X-Robots-Tag:noindex
X-PUBLISHED-TTL:PT1H
BEGIN:VTIMEZONE
TZID:America/New_York
BEGIN:DAYLIGHT
TZOFFSETFROM:-0500
TZOFFSETTO:-0400
TZNAME:EDT
DTSTART:20230312T070000
END:DAYLIGHT
BEGIN:STANDARD
TZOFFSETFROM:-0400
TZOFFSETTO:-0500
TZNAME:EST
DTSTART:20231105T060000
END:STANDARD
BEGIN:DAYLIGHT
TZOFFSETFROM:-0500
TZOFFSETTO:-0400
TZNAME:EDT
DTSTART:20240310T070000
END:DAYLIGHT
BEGIN:STANDARD
TZOFFSETFROM:-0400
TZOFFSETTO:-0500
TZNAME:EST
DTSTART:20241103T060000
END:STANDARD
BEGIN:DAYLIGHT
TZOFFSETFROM:-0500
TZOFFSETTO:-0400
TZNAME:EDT
DTSTART:20250309T070000
END:DAYLIGHT
BEGIN:STANDARD
TZOFFSETFROM:-0400
TZOFFSETTO:-0500
TZNAME:EST
DTSTART:20251102T060000
END:STANDARD
END:VTIMEZONE
BEGIN:VEVENT
DTSTART;TZID=America/New_York:20241124T130000
DTEND;TZID=America/New_York:20241124T160000
DTSTAMP:20260421T232720
CREATED:20240913T115339Z
LAST-MODIFIED:20241115T142455Z
UID:23377-1732453200-1732464000@kushgroove.com
SUMMARY:CBD Cosmetics & Bubbly Mixer
DESCRIPTION:Join us for an unforgettable afternoon at our CBD Cosmetics & Bubbly Mixer\, where beauty and wellness collide! Mingle with fellow CBD enthusiasts\, and explore the latest in CBD-infused cosmetics. From calming skincare to rejuvenating toners\, you’ll get hands-on with products designed to soothe\, heal\, and enhance. \nLearn more about our range of luxurious items and discover what makes CBD the beauty world’s best-kept secret. Whether you’re a longtime fan or new to CBD\, this is the perfect opportunity to connect\, learn\, and indulge. \nGrab your friends\, and let’s make it an afternoon of beauty and bliss
URL:https://kushgroove.com/event/cbd-cosmetics-launch/
LOCATION:Kush Groove Dispensary – Cambridge\, 701 Mount Auburn St\, Cambridge\, MA\, 02138\, United States
ATTACH;FMTTYPE=image/png:https://kushgroove.com/wp-content/uploads/2024/09/Wordpress-Event-Picture-4.png
END:VEVENT
END:VCALENDAR