BEGIN:VCALENDAR
VERSION:2.0
PRODID:-//Kush Groove Cannabis Dispensary - ECPv6.15.17.1//NONSGML v1.0//EN
CALSCALE:GREGORIAN
METHOD:PUBLISH
X-WR-CALNAME:Kush Groove Cannabis Dispensary
X-ORIGINAL-URL:https://kushgroove.com
X-WR-CALDESC:Events for Kush Groove Cannabis Dispensary
REFRESH-INTERVAL;VALUE=DURATION:PT1H
X-Robots-Tag:noindex
X-PUBLISHED-TTL:PT1H
BEGIN:VTIMEZONE
TZID:America/New_York
BEGIN:DAYLIGHT
TZOFFSETFROM:-0500
TZOFFSETTO:-0400
TZNAME:EDT
DTSTART:20250309T070000
END:DAYLIGHT
BEGIN:STANDARD
TZOFFSETFROM:-0400
TZOFFSETTO:-0500
TZNAME:EST
DTSTART:20251102T060000
END:STANDARD
BEGIN:DAYLIGHT
TZOFFSETFROM:-0500
TZOFFSETTO:-0400
TZNAME:EDT
DTSTART:20260308T070000
END:DAYLIGHT
BEGIN:STANDARD
TZOFFSETFROM:-0400
TZOFFSETTO:-0500
TZNAME:EST
DTSTART:20261101T060000
END:STANDARD
BEGIN:DAYLIGHT
TZOFFSETFROM:-0500
TZOFFSETTO:-0400
TZNAME:EDT
DTSTART:20270314T070000
END:DAYLIGHT
BEGIN:STANDARD
TZOFFSETFROM:-0400
TZOFFSETTO:-0500
TZNAME:EST
DTSTART:20271107T060000
END:STANDARD
END:VTIMEZONE
BEGIN:VEVENT
DTSTART;TZID=America/New_York:20260420T170000
DTEND;TZID=America/New_York:20260420T210000
DTSTAMP:20260422T044419
CREATED:20260408T215607Z
LAST-MODIFIED:20260408T221238Z
UID:118298-1776704400-1776718800@kushgroove.com
SUMMARY:420 Cannabis Dispensary Car Meetup
DESCRIPTION:This 4/20\, we’re shifting gears and taking the celebration to the streets. Kush Groove is proud to announce a massive collaboration with Boosted Boston and Street Spec for the ultimate 4/20 Car Meet! \n  \nIf you live for modified cars\, high-octane energy\, and the best cannabis vibes in Massachusetts\, this is the only place you need to be on Monday\, April 20th. We’re bringing together the car community and the cannabis community for an evening of food\, vendors\, and some of the cleanest builds in the Northeast. \nEvent Details\n\nWhen: Monday\, April 20th\, 2026\nTime: 5:00 PM – 9:00 PM\nFeaturing: Food\, Local Vendors\, 4/20 Vibes\, and Modified Cars\n\nThe Vibes & The Rides\nWe aren’t just celebrating the holiday; we’re celebrating the lifestyle. Whether you’re rolling in a JDM legend\, a boosted Euro\, or just want to admire the local craftsmanship\, the energy will be unmatched. Expect a curated selection of modified cars\, deep bass\, and an atmosphere that only Kush Groove and our partners can provide. \nFeatured Vendor List\nWe’ve teamed up with some of the best names in the game to keep you fueled and stocked all evening. Make sure to check out the full lineup on-site: \n\nBoriwheels: For the JDM enthusiasts and car culture purists.\nLa Mezcla: Serving up the best local eats to handle those munchies.\nCuckie’s: Cooling things down with their signature soft serve ice cream.\nNew England Exotic: Showcasing the high-end side of the local car scene.\n\nWhy You Can’t Miss It\n4/20 at Kush Groove is always legendary\, but adding Boosted Boston and Street Spec to the mix takes it to a whole new level. This is more than just a car meet—it’s a community gathering designed for those who appreciate the intersection of automotive art and cannabis culture. \nCome for the cars\, stay for the culture. Grab some food from La Mezcla\, cool down with some Cuckie’s soft serve\, and talk shop with fellow enthusiasts while the sun goes down. With a 5:00 PM start time\, we’re capturing those perfect golden hour vibes for the best photos of your builds. \nPro Tip: Arrive early to secure a prime spot for your ride. We’re expecting a massive turnout\, and you’ll want to be in the heart of the action when the 4/20 energy hits its peak. \nJoin Us\nMark your calendars\, wash your builds\, and get your stash ready. We’re turning 5:00 PM to 9:00 PM into the highlight of your year. Make sure to follow us on social media for any real-time updates and location drops as we get closer to the date. \n🌿📺 See you on the 20th. Let’s make some noise! \n\nShop Pre-Meet Supplies
URL:https://kushgroove.com/event/420-cannabis-dispensary-car-meetup/
LOCATION:Kush Groove Dispensary – Cambridge\, 701 Mount Auburn St\, Cambridge\, MA\, 02138\, United States
ATTACH;FMTTYPE=image/jpeg:https://kushgroove.com/wp-content/uploads/2026/04/IMG_3680.jpeg
END:VEVENT
END:VCALENDAR