BEGIN:VCALENDAR
VERSION:2.0
PRODID:-//Kush Groove Cannabis Dispensary - ECPv6.15.17.1//NONSGML v1.0//EN
CALSCALE:GREGORIAN
METHOD:PUBLISH
X-WR-CALNAME:Kush Groove Cannabis Dispensary
X-ORIGINAL-URL:https://kushgroove.com
X-WR-CALDESC:Events for Kush Groove Cannabis Dispensary
REFRESH-INTERVAL;VALUE=DURATION:PT1H
X-Robots-Tag:noindex
X-PUBLISHED-TTL:PT1H
BEGIN:VTIMEZONE
TZID:America/New_York
BEGIN:DAYLIGHT
TZOFFSETFROM:-0500
TZOFFSETTO:-0400
TZNAME:EDT
DTSTART:20230312T070000
END:DAYLIGHT
BEGIN:STANDARD
TZOFFSETFROM:-0400
TZOFFSETTO:-0500
TZNAME:EST
DTSTART:20231105T060000
END:STANDARD
BEGIN:DAYLIGHT
TZOFFSETFROM:-0500
TZOFFSETTO:-0400
TZNAME:EDT
DTSTART:20240310T070000
END:DAYLIGHT
BEGIN:STANDARD
TZOFFSETFROM:-0400
TZOFFSETTO:-0500
TZNAME:EST
DTSTART:20241103T060000
END:STANDARD
BEGIN:DAYLIGHT
TZOFFSETFROM:-0500
TZOFFSETTO:-0400
TZNAME:EDT
DTSTART:20250309T070000
END:DAYLIGHT
BEGIN:STANDARD
TZOFFSETFROM:-0400
TZOFFSETTO:-0500
TZNAME:EST
DTSTART:20251102T060000
END:STANDARD
BEGIN:DAYLIGHT
TZOFFSETFROM:-0500
TZOFFSETTO:-0400
TZNAME:EDT
DTSTART:20260308T070000
END:DAYLIGHT
BEGIN:STANDARD
TZOFFSETFROM:-0400
TZOFFSETTO:-0500
TZNAME:EST
DTSTART:20261101T060000
END:STANDARD
END:VTIMEZONE
BEGIN:VEVENT
DTSTART;TZID=America/New_York:20250704T160000
DTEND;TZID=America/New_York:20250704T200000
DTSTAMP:20260421T220818
CREATED:20250702T181844Z
LAST-MODIFIED:20250702T181844Z
UID:75050-1751644800-1751659200@kushgroove.com
SUMMARY:Cambridge Dispensary Dance Party
DESCRIPTION:Friday’s in July @ksgv.store just got Groovier! \nWe’ve partnered with @redeye.bos to put together an eclectic mix of DJs for a series of live\, in store sets by local DJs in the great Boston area. \nJoin us for vibes and grooves every Friday this July starting at 4pm with our first DJ set launching Friday July 4th. \nFree entry\, must be 21 to enter. Come and enjoy your Summer Fridays with us @ksgv.store & @ksgv.brand #kushgroove
URL:https://kushgroove.com/event/cambridge-dispensary-dance-party/
LOCATION:Kush Groove Dispensary – Cambridge\, 701 Mount Auburn St\, Cambridge\, MA\, 02138\, United States
ATTACH;FMTTYPE=image/png:https://kushgroove.com/wp-content/uploads/2025/07/New-Screen-Images-16.png
END:VEVENT
BEGIN:VEVENT
DTSTART;TZID=America/New_York:20250419T110000
DTEND;TZID=America/New_York:20250419T130000
DTSTAMP:20260421T220818
CREATED:20250411T192751Z
LAST-MODIFIED:20250411T192751Z
UID:66144-1745060400-1745067600@kushgroove.com
SUMMARY:420 Weekend Neighborhood Clean Up
DESCRIPTION:Who doesn’t love a clean neighborhood? Well\, we love ours and we’re going to take a few hours to clean up some trash. \n\nPitch in if you can Saturday\, April 19th at 11am at the corner of Belmont & Holworthy St. We’ll have trash bags & gloves! \n\nWant to join us? For more information contact Marcus at 617-318-6023 or marcus@kushgroove.com
URL:https://kushgroove.com/event/420-weekend-neighborhood-clean-up/
LOCATION:Kush Groove Dispensary – Cambridge\, 701 Mount Auburn St\, Cambridge\, MA\, 02138\, United States
ATTACH;FMTTYPE=image/png:https://kushgroove.com/wp-content/uploads/2025/04/1-Pager-Flyer-3.png
END:VEVENT
BEGIN:VEVENT
DTSTART;VALUE=DATE:20250417
DTEND;VALUE=DATE:20250421
DTSTAMP:20260421T220818
CREATED:20250410T143932Z
LAST-MODIFIED:20250410T143932Z
UID:66132-1744848000-1745193599@kushgroove.com
SUMMARY:420 Events for 2025
DESCRIPTION:This April 20th (also known as 420) and 420 weekend will be the biggest cannabis sales weekend of the year. Because this annual celebration of cannabis culture and products that has been celebrated for decades\, and now falls on Easter Sunday this year\, it has become a much more anticipated holiday for its 420 deals and events. \nCannabis enthusiasts like yourself can expect super exclusive 420 deals specials\, new product launches\, and perks for our loyalty members. \nCome celebrate with us RAIN OR SHINE\, all 4/20 weekend long\, starting Thursday\, April 17th!   \nKush Groove 420 Deals Highest of Holidays event! \n \nCambridge DISPENSARY\nOpen at 10:00 am Saturday & Sunday\, Closing at 9:00 pm\nWE ARE CELEBRATING RAIN OR SHINE! \nCAMBRIDGE 420 EVENTS\, FREE GIVEAWAYS\, DEALS & MORE\nJoin us in CAMBRIDGE on 420 weekend to celebrate with 420 product deals & spotlights (scroll down for the full list)  and so much more (while supplies last)\, including: \nFree Food (Saturday/Sunday)\n\nIntellegencia Coffee – Serving up coffee & espresso from 10-11 am.\nSofra Bakery – Serving up cookies & treats from 10 – till they run out.\nJen’s Cookhouse – Serving up empanadas from 1 pm – till they run out.\n\nEvents (Saturday/Sunday)\n\nNeighborhood Clean Up (Saturday) – 2 hour clean up effort to clean up and revitalize community walk way area. Sign up here if you’d like participate.\nOutdoor Music behind Dispensary – weather permitting\, we’ll have tables & chairs for outdoor entertainment.\nEastern Egg Hunt Along Path (Gumball Stickers) – find promos placed along the path.\nOutdoor Party w/Vendors + Games – weather permitting\, we’ll have adult games for outdoor entertainment.\nBuild–A–Bong  – Sort through our wide selection of glass and build your own bong for fun & engaging activity.\nEveryone is a Winner (All Day Saturday & Sunday) – Free giveaways for all customers (while supplies last)!\nCustomer of the day (All Day Saturday & Sunday) – Win exciting prizes\, including:\n\n1st Customer of the Day Saturday & Sunday\n100th Customer of the Day Saturday & Sunday\n4:20pm Customers of the Day Saturday & Sunday.\n\n\n\nFREE Giveaways & Raffles (Saturday/Sunday)\n1-844-WEED-MAN merch bundle– Be apart of the team with your WEEDMAN t-shirt and merch pack! Enter for a chance to win your official 1-844-WEED-MAN merch bundle. Winners will be selected each day\, at each store\, Saturday & Sunday. \nStickers\, Post Cards\,  Papers\, etc.– Fill your baggies with FREE stickers\, post cards\, papers and other vendor giveaways! \nFree ($.01) OZ raffle – Enter to win a FREE (well\, one penny) ounce on both Saturday & Sunday. Each basket over $60 has a chance to win! \nBong Raffle – Want to smoke big clouds? Enter for a chance at a FREE bong from our selection. \nTurtle Mural Poster Raffle – Want to take home a special prize? We’re raffling off posters of our Turtle Mural Poster for a few lucky winners. \n \n– \nBrockton DISPENSARY\nOpen early at 9:00 am Saturday & Sunday\, Closing at 9:00 pm\nWE ARE CELEBRATING RAIN OR SHINE! \nBROCKTON 420 EVENTS\, FREE GIVEAWAYS\, RAFFLES & MORE\nJoin us in BROCKTON on 420 to celebrate the day with 420 product deals & spotlights (scroll down for the full list)  and so much more (while supplies last)\, including: \nFree Food (Saturday/Sunday)\n\nAlves Bakery – Serving up snacks\, treats from 10 – till they run out.\nJen’s Cookhouse – Serving up empanadas from 1 pm – till they run out.\n\nEvents (Saturday/Sunday)\n\nOutdoor Music behind Dispensary – weather permitting\, we’ll have tables & chairs for outdoor entertainment.\nOutdoor Party w/Vendors + Games – \nEveryone is a Winner (All Day Saturday & Sunday) – Free giveaways for all customers (while supplies last)!\nCustomer of the day (All Day Saturday & Sunday) – Win exciting prizes\, including:\n\n1st Customer of the Day Saturday & Sunday\n100th Customer of the Day Saturday & Sunday\n4:20pm Customers of the Day Saturday & Sunday.\n\n\n\nFREE Giveaways & Raffles (Saturday/Sunday)\n1-844-WEED-MAN merch bundle– Be apart of the team with your WEEDMAN t-shirt and merch pack! Enter for a chance to win your official 1-844-WEED-MAN merch bundle. Winners will be selected each day\, at each store\, Saturday & Sunday. \nStickers\, Post Cards\,  Papers\, etc.– Fill your baggies with FREE stickers\, post cards\, papers and other vendor giveaways! \nFree ($.01) OZ raffle – Enter to win a FREE (well\, one penny) ounce on both Saturday & Sunday. Each basket over $60 has a chance to win! \nBong Raffle – Want to smoke big clouds? Enter for a chance at a FREE bong from our selection. \n–\nSPOTLIGHTS – Cambridge & Brockton Dispensaries\nALL-DAY DOORBUSTERS \n\n$2 1g Pre-rolls\n$8 100mg Gummies\n\nSPOTLIGHTS \nFlower \n\n3.5g GTF Flower – $12 $8\n7g GTF Shake – $15 $12\n\nPre-Rolls \n\n1g Pre-Roll – $10 $2\n10 Pre-Rolls $100 $19\n\nEdibles \n\n100mg Choice Non-Rosin Gummies – $12 $4 for $24\n100mg Harbor House Rosin Gummies – $22 $15.00\n1000mg Chill Medicated – $60 $50\n\nVape  \n\n.5g Harbor House Live Rosin Carts Bundle x2 – $65\n1g Crude Boys Distillate Cartridge Bundle x3 – $60 $45\n2g Perpertual AIO Vape – $45 $50\n\nConcentrates \n\n3.5g Baller Jars – $55\n\nInfused Drinks  \n\nPine Star Drink – $6.67 $5\n\nAccessories \n\n30% OFF ALL GLASS\n30% OFF ALL KUSH GROOVE CLOTHING\n\nSchedule of events\, promotions\, giveaways\, and spotlights are tentative and subject to change. \nPlease consume responsibly. 
URL:https://kushgroove.com/event/420-events-for-2025/
LOCATION:MA
ATTACH;FMTTYPE=image/png:https://kushgroove.com/wp-content/uploads/2025/04/In-Store-Posters-8.png
END:VEVENT
BEGIN:VEVENT
DTSTART;TZID=America/New_York:20250201T160000
DTEND;TZID=America/New_York:20250201T200000
DTSTAMP:20260421T220818
CREATED:20250128T213148Z
LAST-MODIFIED:20250128T213349Z
UID:57336-1738425600-1738440000@kushgroove.com
SUMMARY:I Deserve to Bloom! Art & Floral Pop-Up
DESCRIPTION:Join us Saturday\, Feb. 1st from 4pm-8pm at Kush Groove Dispensary in Cambridge\, MA for a celebration of self-love\, growth & embracing your fullest potential. This special pop-up will feature original artwork by Ambrojah and hand-crafted floral bouquets by Floria; all available for purchase!  \nStep into a space where art\, flowers and personal care come together to honor your journey. Explore stunning prints\, beautiful floral arragements and refreshing mocktails\, all while celebrating the power of nurturing yourself and letting your unique beauty flourish. \nWhether you’re treating yourself or searching for the perfect give\, this event is about honoring the beauty within you. \nInvite friends along! No entry fee. Join us for an evening of self celebration and blossoming vibes. We can’t wait to see you.
URL:https://kushgroove.com/event/kush-groove-art-pop-up/
LOCATION:MA
ATTACH;FMTTYPE=image/jpeg:https://kushgroove.com/wp-content/uploads/2025/01/Untitled-January-17-2025-10.55.36-01-Artboard-1-min-scaled.jpg
END:VEVENT
BEGIN:VEVENT
DTSTART;TZID=America/New_York:20250125T180000
DTEND;TZID=America/New_York:20250125T210000
DTSTAMP:20260421T220818
CREATED:20250114T011217Z
LAST-MODIFIED:20250114T011217Z
UID:54468-1737828000-1737838800@kushgroove.com
SUMMARY:An Unforgettable Fernway Dinner Experience: Night 2
DESCRIPTION:Join us for an exclusive dinner party hosted by Fernway\, Massachusetts’ premier cannabis vape company\, and Kush Groove. Indulge in a one-of-a-kind culinary experience prepared by the renowned Chef Greg Reeves (owner of Viale & Althea Restaurants)\, whose innovative dishes are celebrated for their bold flavors and artistry. \nThis intimate evening will feature a curated menu designed to pair beautifully with Fernway’s signature cannabis offerings. Guests will enjoy a thoughtfully crafted atmosphere blending elevated cuisine\, community\, and cannabis culture. \n(Note: this event takes place on two evenings\, there are 30 tickets available for each evening!) \nGuests will also be treated to a special artist activation with the addition of artistic prints and designs created by artist Ambrojah Williams. \nDiscover how fine dining and cannabis can come together to create a truly unforgettable experience. Whether you’re a foodie\, a cannabis enthusiast\, or simply looking for a night to remember\, this is an event you won’t want to miss. \nEach guest will be gifted a special item from Fernway 😉 \nLimited seating available—reserve your spot today on Eventbrite. \n21+ only. This is a consumption-friendly event. Location and details provided upon RSVP. No requests to change menu will be honored. Light specialty cocktails will also be served.
URL:https://kushgroove.com/event/an-unforgettable-fernway-dinner-experience-night-2/
LOCATION:MA
ATTACH;FMTTYPE=image/jpeg:https://kushgroove.com/wp-content/uploads/2025/01/Untitled-January-5-2025-17.42.19-2-copy-2-01-Artboard-1-scaled.jpg
END:VEVENT
BEGIN:VEVENT
DTSTART;TZID=America/New_York:20250124T180000
DTEND;TZID=America/New_York:20250124T210000
DTSTAMP:20260421T220818
CREATED:20250114T010654Z
LAST-MODIFIED:20250114T011227Z
UID:54444-1737741600-1737752400@kushgroove.com
SUMMARY:An Unforgettable Fernway Dinner Experience: Night 1
DESCRIPTION:Join us for an exclusive dinner party hosted by Fernway\, Massachusetts’ premier cannabis vape company\, and Kush Groove. Indulge in a one-of-a-kind culinary experience prepared by the renowned Chef Greg Reeves (owner of Viale & Althea Restaurants)\, whose innovative dishes are celebrated for their bold flavors and artistry. \nThis intimate evening will feature a curated menu designed to pair beautifully with Fernway’s signature cannabis offerings. Guests will enjoy a thoughtfully crafted atmosphere blending elevated cuisine\, community\, and cannabis culture. \n(Note: this event takes place on two evenings\, there are 30 tickets available for each evening!) \nGuests will also be treated to a special artist activation with the addition of artistic prints and designs created by artist Ambrojah Williams. \nDiscover how fine dining and cannabis can come together to create a truly unforgettable experience. Whether you’re a foodie\, a cannabis enthusiast\, or simply looking for a night to remember\, this is an event you won’t want to miss. \nEach guest will be gifted a special item from Fernway 😉 \nLimited seating available—reserve your spot today on Eventbrite. \n21+ only. This is a consumption-friendly event. Location and details provided upon RSVP. No requests to change menu will be honored. Light specialty cocktails will also be served.
URL:https://kushgroove.com/event/fernway-dinner-experience-1/
LOCATION:MA
ATTACH;FMTTYPE=image/jpeg:https://kushgroove.com/wp-content/uploads/2025/01/Untitled-January-5-2025-17.42.19-2-copy-2-01-Artboard-1-scaled.jpg
END:VEVENT
BEGIN:VEVENT
DTSTART;TZID=America/New_York:20241207T170000
DTEND;TZID=America/New_York:20241207T220000
DTSTAMP:20260421T220818
CREATED:20241201T010728Z
LAST-MODIFIED:20241201T022133Z
UID:48391-1733590800-1733608800@kushgroove.com
SUMMARY:Kush Groove Kushmas Holiday Party
DESCRIPTION:Join us as we celebrate the holiday season with friends of Kush Groove at our KUSHMAS Holiday Party! We’ll have music from our Kush Groove DJ\, vendors\, free swag\, live painting\, food\, cheap cash bar\, lounge\, and good vibes all around. \nWe’ll have vendors from \n\nKhalifa Kush\nCNA Stores\nTreeworks\nSpaces Poppers\nFernway\n\nFirst 100 guests get FREE food and giveaway samples. Small bites menu will be available for sale. \nCome by and celebrate with us. We can’t wait to see you. \nBring a friend! RSVP at the link on the page.
URL:https://kushgroove.com/event/kush-groove-kushmas-holiday-party/
LOCATION:MA
ATTACH;FMTTYPE=image/png:https://kushgroove.com/wp-content/uploads/2024/11/Wordpress-Event-Picture-6.png
END:VEVENT
BEGIN:VEVENT
DTSTART;TZID=America/New_York:20241124T130000
DTEND;TZID=America/New_York:20241124T160000
DTSTAMP:20260421T220818
CREATED:20240913T115339Z
LAST-MODIFIED:20241115T142455Z
UID:23377-1732453200-1732464000@kushgroove.com
SUMMARY:CBD Cosmetics & Bubbly Mixer
DESCRIPTION:Join us for an unforgettable afternoon at our CBD Cosmetics & Bubbly Mixer\, where beauty and wellness collide! Mingle with fellow CBD enthusiasts\, and explore the latest in CBD-infused cosmetics. From calming skincare to rejuvenating toners\, you’ll get hands-on with products designed to soothe\, heal\, and enhance. \nLearn more about our range of luxurious items and discover what makes CBD the beauty world’s best-kept secret. Whether you’re a longtime fan or new to CBD\, this is the perfect opportunity to connect\, learn\, and indulge. \nGrab your friends\, and let’s make it an afternoon of beauty and bliss
URL:https://kushgroove.com/event/cbd-cosmetics-launch/
LOCATION:Kush Groove Dispensary – Cambridge\, 701 Mount Auburn St\, Cambridge\, MA\, 02138\, United States
ATTACH;FMTTYPE=image/png:https://kushgroove.com/wp-content/uploads/2024/09/Wordpress-Event-Picture-4.png
END:VEVENT
END:VCALENDAR