BEGIN:VCALENDAR
VERSION:2.0
PRODID:-//Kush Groove Cannabis Dispensary - ECPv6.15.17.1//NONSGML v1.0//EN
CALSCALE:GREGORIAN
METHOD:PUBLISH
X-WR-CALNAME:Kush Groove Cannabis Dispensary
X-ORIGINAL-URL:https://kushgroove.com
X-WR-CALDESC:Events for Kush Groove Cannabis Dispensary
REFRESH-INTERVAL;VALUE=DURATION:PT1H
X-Robots-Tag:noindex
X-PUBLISHED-TTL:PT1H
BEGIN:VTIMEZONE
TZID:America/New_York
BEGIN:DAYLIGHT
TZOFFSETFROM:-0500
TZOFFSETTO:-0400
TZNAME:EDT
DTSTART:20240310T070000
END:DAYLIGHT
BEGIN:STANDARD
TZOFFSETFROM:-0400
TZOFFSETTO:-0500
TZNAME:EST
DTSTART:20241103T060000
END:STANDARD
BEGIN:DAYLIGHT
TZOFFSETFROM:-0500
TZOFFSETTO:-0400
TZNAME:EDT
DTSTART:20250309T070000
END:DAYLIGHT
BEGIN:STANDARD
TZOFFSETFROM:-0400
TZOFFSETTO:-0500
TZNAME:EST
DTSTART:20251102T060000
END:STANDARD
BEGIN:DAYLIGHT
TZOFFSETFROM:-0500
TZOFFSETTO:-0400
TZNAME:EDT
DTSTART:20260308T070000
END:DAYLIGHT
BEGIN:STANDARD
TZOFFSETFROM:-0400
TZOFFSETTO:-0500
TZNAME:EST
DTSTART:20261101T060000
END:STANDARD
END:VTIMEZONE
BEGIN:VEVENT
DTSTART;TZID=America/New_York:20251126T090000
DTEND;TZID=America/New_York:20251126T210000
DTSTAMP:20260421T051444
CREATED:20251119T190749Z
LAST-MODIFIED:20251119T190749Z
UID:96749-1764147600-1764190800@kushgroove.com
SUMMARY:Kush Groove Green Wednesday Dispensary Deals
DESCRIPTION:Green Wednesday at Kush Groove: Deals\, Freebies\, Free Food & More\nIf Black Friday is for big-box stores\, Green Wednesday is for the culture. The day before Thanksgiving has become one of the biggest cannabis shopping days of the year—and at Kush Groove Dispensary in Cambridge and Brockton\, MA\, we’re going all in. \nThis year’s Green Wednesday event is all about discounts\, freebies\, free food\, and top-shelf deals on your favorite brands. If you’ve been waiting for the perfect day to stock up before the long weekend\, this is it. \n\nWhat Is Green Wednesday?\nGreen Wednesday is the pre-Thanksgiving cannabis holiday\, falling on the Wednesday before Turkey Day. It’s the moment when: \n\nFriends and family come back home\nPeople prep for the long weekend\nEveryone wants to relax\, vibe\, and enjoy time off\n\nAt Kush Groove Dispensary\, Green Wednesday means: \n\nExclusive one-day-only deals\nSpecial brand activations & pop-ups\nGiveaways\, freebies\, and free food for qualifying customers 21+\n\nIf you’re searching for “Green Wednesday cannabis deals near me” in the Boston area\, Kush Groove is your destination. \n\nGreen Wednesday at Kush Groove: What You Can Expect\nWhen you walk into our Cambridge or Brockton dispensary on Green Wednesday\, here’s the energy you can expect: \n\nA stacked menu featuring premium flower\, pre-rolls\, vapes\, edibles\, concentrates\, and more\nFriendly\, knowledgeable budtenders ready to help you find exactly what you need\nDiscounts and special offers across popular\, high-quality brands\nA community vibe—more like a neighborhood event than a transaction\n\nWe’re celebrating our customers\, our community\, and the people who’ve been rocking with Kush Groove from day one. \n\nFeatured Green Wednesday Deals & Brand Highlights\nHere are some of the featured brands offering special Green Wednesday deals (while supplies last): \n\nJeeter Deals – Pre-roll and infused pre-roll specials.\nPerpetual Deals – Reliable\, high-quality flower and pre-roll promotions.\nGlorious Deals – Select premium cannabis products on sale.\nYour Highness Deals – Elevated offerings for the refined smoker.\nTreeworks Deals – Wellness-focused tinctures and edibles.\nSpace Poppers Deals – Flavorful\, fun options perfect for kicking off the holiday.\nDIME Deals – Vape and concentrate deals for the potent-seeking customer.\nFernway Deals – Massachusetts’ favorite vapes at special pricing.\nCamino Deals – Gummies and edibles ideal for a stress-free holiday.\nAnd Much More… – Additional surprise specials and limited drops.\n\nAvailability varies by location. Check your local menu for up-to-date deals. \n\nWhy Shop Green Wednesday at Kush Groove?\nThere are plenty of dispensaries in Massachusetts — but Kush Groove stands apart. Here’s why customers choose us for Green Wednesday cannabis deals in Cambridge and Brockton: \n\nCurated Menu: We focus on quality and culture—not just price tags.\nCommunity Roots: Born as a lifestyle brand\, built by the community.\nEducation Forward: Our budtenders help you shop confidently.\nA Real Experience: Good music\, good vibes\, good people.\n\nIf you’re searching for “dispensary in Cambridge MA Green Wednesday deals” or “Brockton dispensary pre-Thanksgiving specials”\,
URL:https://kushgroove.com/event/kush-groove-green-wednesday-dispensary-deals/
LOCATION:Kush Groove Dispensary – Cambridge\, 701 Mount Auburn St\, Cambridge\, MA\, 02138\, United States
ATTACH;FMTTYPE=image/png:https://kushgroove.com/wp-content/uploads/2024/08/Copy-of-Off-Green-Days.png
END:VEVENT
END:VCALENDAR